BEGIN:VCALENDAR
VERSION:2.0
PRODID:-//Hi! PARIS - ECPv6.15.17.1//NONSGML v1.0//EN
CALSCALE:GREGORIAN
METHOD:PUBLISH
X-ORIGINAL-URL:https://hi-paris.fr
X-WR-CALDESC:Events for Hi! PARIS
REFRESH-INTERVAL;VALUE=DURATION:PT1H
X-Robots-Tag:noindex
X-PUBLISHED-TTL:PT1H
BEGIN:VTIMEZONE
TZID:Europe/Paris
BEGIN:DAYLIGHT
TZOFFSETFROM:+0100
TZOFFSETTO:+0200
TZNAME:CEST
DTSTART:20250330T010000
END:DAYLIGHT
BEGIN:STANDARD
TZOFFSETFROM:+0200
TZOFFSETTO:+0100
TZNAME:CET
DTSTART:20251026T010000
END:STANDARD
BEGIN:DAYLIGHT
TZOFFSETFROM:+0100
TZOFFSETTO:+0200
TZNAME:CEST
DTSTART:20260329T010000
END:DAYLIGHT
BEGIN:STANDARD
TZOFFSETFROM:+0200
TZOFFSETTO:+0100
TZNAME:CET
DTSTART:20261025T010000
END:STANDARD
BEGIN:DAYLIGHT
TZOFFSETFROM:+0100
TZOFFSETTO:+0200
TZNAME:CEST
DTSTART:20270328T010000
END:DAYLIGHT
BEGIN:STANDARD
TZOFFSETFROM:+0200
TZOFFSETTO:+0100
TZNAME:CET
DTSTART:20271031T010000
END:STANDARD
END:VTIMEZONE
BEGIN:VEVENT
DTSTART;VALUE=DATE:20260611
DTEND;VALUE=DATE:20260613
DTSTAMP:20260422T140320
CREATED:20260421T083602Z
LAST-MODIFIED:20260421T083615Z
UID:10000016-1781136000-1781308799@hi-paris.fr
SUMMARY:Paris Conference on AI & Digital Ethics
DESCRIPTION:PCAIDE is the leading research conference on the ethical and societal challenges of AI and digital technologies. It is also an annual meeting for leaders from the public and private sectors\, international organisations\, and think tanks to learn about the latest scientific advances\, compare practices\, and meet international partners. \nPrevious editions brought together participants from around forty countries to engage with world-class scholars researching the social impacts of AI\, as well as experts from global companies and organisations. The 2026 edition will welcome 45 speakers\, with sessions structured around four themes: \n\nAI and work\, chaired by Dr Antonin Bergeaud (HEC Paris)\, with speakers including Dr Mar Carpanelli(LinkedIn Economic Graph) and Jeremy Lamri (Tomorrow Theory).\nAI and health\, chaired by Prof Jennifer Blumenthal-Barby (Baylor College of Medicine)\, with speakers including Prof Katrina Bramstedt (Roche) and Saila Rinne (EU AI Office).\nAI and social interactions\, chaired by Prof Matthias Scheutz (Tufts Institute for AI)\, with speakers including Dr Nataliya Kosmyna (MIT Media Lab & Google) and Prof Maria Melchior (Inserm & Collège de France).\nAI and the environment\, chaired by Dr Sasha Luccioni (Hugging Face & Abeona/ENS/OBVIA)\, with speakers including Dr Golestan Radwan (UNEP & UNESCO)\, Dr Somya Joshi (SEI & Stockholm University)\, and Theo Alves (Ekimetrics & Data For Good).\n\nInformation and registration\n•  Agenda\n•  Speakers\n•  Registration
URL:https://hi-paris.fr/event/paris-conference-on-ai-digital-ethics/
LOCATION:Mines Paris\, 60 Boulevard Saint-Michel\, Paris\, 75005\, France
CATEGORIES:Research
ATTACH;FMTTYPE=image/jpeg:https://hi-paris.fr/wp-content/uploads/2026/04/Banner-events-website-19.jpg
END:VEVENT
END:VCALENDAR