BEGIN:VCALENDAR
VERSION:2.0
PRODID:-//Hi! PARIS - ECPv6.15.17.1//NONSGML v1.0//EN
CALSCALE:GREGORIAN
METHOD:PUBLISH
X-ORIGINAL-URL:https://hi-paris.fr
X-WR-CALDESC:Events for Hi! PARIS
REFRESH-INTERVAL;VALUE=DURATION:PT1H
X-Robots-Tag:noindex
X-PUBLISHED-TTL:PT1H
BEGIN:VTIMEZONE
TZID:Europe/Paris
BEGIN:DAYLIGHT
TZOFFSETFROM:+0100
TZOFFSETTO:+0200
TZNAME:CEST
DTSTART:20250330T010000
END:DAYLIGHT
BEGIN:STANDARD
TZOFFSETFROM:+0200
TZOFFSETTO:+0100
TZNAME:CET
DTSTART:20251026T010000
END:STANDARD
BEGIN:DAYLIGHT
TZOFFSETFROM:+0100
TZOFFSETTO:+0200
TZNAME:CEST
DTSTART:20260329T010000
END:DAYLIGHT
BEGIN:STANDARD
TZOFFSETFROM:+0200
TZOFFSETTO:+0100
TZNAME:CET
DTSTART:20261025T010000
END:STANDARD
BEGIN:DAYLIGHT
TZOFFSETFROM:+0100
TZOFFSETTO:+0200
TZNAME:CEST
DTSTART:20270328T010000
END:DAYLIGHT
BEGIN:STANDARD
TZOFFSETFROM:+0200
TZOFFSETTO:+0100
TZNAME:CET
DTSTART:20271031T010000
END:STANDARD
END:VTIMEZONE
BEGIN:VEVENT
DTSTART;TZID=Europe/Paris:20260304T110000
DTEND;TZID=Europe/Paris:20260304T120000
DTSTAMP:20260419T152703
CREATED:20260210T143843Z
LAST-MODIFIED:20260211T135720Z
UID:10000006-1772622000-1772625600@hi-paris.fr
SUMMARY:AI Seminar Cycle - with Patrick Pérez (Kyutai)
DESCRIPTION:As part of the AI Seminar Cycle\, Hi! PARIS welcomes Patrick Pérez\, co-founder of Kyutai\, for the March session. \nOrganized by Hi! PARIS in collaboration with the ELLIS Program on Theory\, Algorithms\, and Computations of Modern Learning Systems and the Paris ELLIS Unit\, this seminar aims to connect cutting edge research with the broader European AI community. \nRegister here to attend the session: https://us02web.zoom.us/meeting/register/NM1LOvFSTw-uORPB95HsLQ#/
URL:https://hi-paris.fr/event/ai-seminar-cycle-with-patrick-perez-kyutai/
CATEGORIES:Research
ATTACH;FMTTYPE=image/jpeg:https://hi-paris.fr/wp-content/uploads/2026/02/Visual-events-169-2.jpg
LOCATION:https://us02web.zoom.us/meeting/register/NM1LOvFSTw-uORPB95HsLQ#/
END:VEVENT
END:VCALENDAR