BEGIN:VCALENDAR
VERSION:2.0
PRODID:-//Hi! PARIS - ECPv6.15.17.1//NONSGML v1.0//EN
CALSCALE:GREGORIAN
METHOD:PUBLISH
X-WR-CALNAME:Hi! PARIS
X-ORIGINAL-URL:https://hi-paris.fr
X-WR-CALDESC:Events for Hi! PARIS
REFRESH-INTERVAL;VALUE=DURATION:PT1H
X-Robots-Tag:noindex
X-PUBLISHED-TTL:PT1H
BEGIN:VTIMEZONE
TZID:Europe/Paris
BEGIN:DAYLIGHT
TZOFFSETFROM:+0100
TZOFFSETTO:+0200
TZNAME:CEST
DTSTART:20250330T010000
END:DAYLIGHT
BEGIN:STANDARD
TZOFFSETFROM:+0200
TZOFFSETTO:+0100
TZNAME:CET
DTSTART:20251026T010000
END:STANDARD
BEGIN:DAYLIGHT
TZOFFSETFROM:+0100
TZOFFSETTO:+0200
TZNAME:CEST
DTSTART:20260329T010000
END:DAYLIGHT
BEGIN:STANDARD
TZOFFSETFROM:+0200
TZOFFSETTO:+0100
TZNAME:CET
DTSTART:20261025T010000
END:STANDARD
BEGIN:DAYLIGHT
TZOFFSETFROM:+0100
TZOFFSETTO:+0200
TZNAME:CEST
DTSTART:20270328T010000
END:DAYLIGHT
BEGIN:STANDARD
TZOFFSETFROM:+0200
TZOFFSETTO:+0100
TZNAME:CET
DTSTART:20271031T010000
END:STANDARD
END:VTIMEZONE
BEGIN:VEVENT
DTSTART;TZID=Europe/Paris:20260609T180000
DTEND;TZID=Europe/Paris:20260609T210000
DTSTAMP:20260423T091046
CREATED:20260422T103624Z
LAST-MODIFIED:20260422T114555Z
UID:10000017-1781028000-1781038800@hi-paris.fr
SUMMARY:Hi! PARIS Meet Up! on “AI & Fake News Detection”
DESCRIPTION:As part of the Hi! PARIS Initiatives\, a series designed to build thematic working groups around major societal challenges\, an upcoming Meet Up on “AI & Fake News Detection” will take place on Tuesday\, June 9\, 2026\, at 6 PM\, at STATION F (Central Room). \n  \nArtificial intelligence is changing the way false information is created\, spread\, and detected online. But behind that\, there are still many open questions. How can we better identify coordinated influence campaigns? How do misleading arguments circulate on social platforms? What really works when it comes to detecting false or manipulative content? And how can research help public and private actors respond more effectively to these new information threats? \n  \nThe next Hi! PARIS Meet Up will bring together researchers and practitioners for a cross-disciplinary discussion on misinformation\, online influence\, and the challenges they raise in the digital age.
URL:https://hi-paris.fr/event/meet-up-on-ai-fake-news-detection/
LOCATION:Station F (Central Room)\, 5 Parv. Alan Turing\, Paris\, 75013\, France
CATEGORIES:Society
ATTACH;FMTTYPE=image/jpeg:https://hi-paris.fr/wp-content/uploads/2026/04/Banner-events-website-20.jpg
END:VEVENT
END:VCALENDAR